BEGIN:VCALENDAR
VERSION:2.0
PRODID:-//Mind Therapy Clinic - ECPv6.3.5//NONSGML v1.0//EN
CALSCALE:GREGORIAN
METHOD:PUBLISH
X-WR-CALNAME:Mind Therapy Clinic
X-ORIGINAL-URL:https://mindtherapyclinic.com
X-WR-CALDESC:Events for Mind Therapy Clinic
REFRESH-INTERVAL;VALUE=DURATION:PT1H
X-Robots-Tag:noindex
X-PUBLISHED-TTL:PT1H
BEGIN:VTIMEZONE
TZID:America/Los_Angeles
BEGIN:DAYLIGHT
TZOFFSETFROM:-0800
TZOFFSETTO:-0700
TZNAME:PDT
DTSTART:20260308T100000
END:DAYLIGHT
BEGIN:STANDARD
TZOFFSETFROM:-0700
TZOFFSETTO:-0800
TZNAME:PST
DTSTART:20261101T090000
END:STANDARD
END:VTIMEZONE
BEGIN:VEVENT
DTSTART;TZID=America/Los_Angeles:20260422T100000
DTEND;TZID=America/Los_Angeles:20260422T112000
DTSTAMP:20260416T124440
CREATED:20240925T022026Z
LAST-MODIFIED:20250919T164733Z
UID:10030628-1776852000-1776856800@mindtherapyclinic.com
SUMMARY:Emotion Regulation Skills
DESCRIPTION:Effectively manage your emotions\n\n\n\n\n\n\n\n\nEmotional regulation is an awareness and understanding of one’s emotions and their impact on behavior\, and the ability to manage those emotions positively. \nThis group will help clients learn how to effectively manage their emotions in their day-to-day lives. Clients will learn skills such as awareness about emotions and the way that our thinking can regulate our emotions\, cognitive emotion regulation strategies\, learning the differences between the positive and negative strategies that we use to regulate our emotions\, recognizing the use of good and bad strategies in everyday situations This is a skill-building group that encourages active participation and self-disclosure from group members. \nFacilitated by: Betsy Klinger\, LPCC & Lauren Lucitt\, PsyD (Clinical Supervisor: Julie Sauber\, Psy.D. #PSY30179) \n   
URL:https://mindtherapyclinic.com/event/emotion-regulation-skills/2026-04-22/
LOCATION:Mind Therapy Clinic (in-person) Corte Madera\, 100 Tamal Plaza Suite 200\, Corte Madera\, CA\, 94925\, United States
CATEGORIES:Emotion Regulation Skills
END:VEVENT
END:VCALENDAR